BEGIN:VCALENDAR
VERSION:2.0
PRODID:-//hacksw/handcal//NONSGML v1.0//EN
BEGIN:VEVENT
SUMMARY:Montapeine VTT 50km
UID:c2d51b92-a9b4-465c-9858-bb504b68b2f5
DTSTART:20260426T060000Z
DTEND:20260426T220000Z
LOCATION:Localisation   
CATEGORIES:Sportif
STATUS:
URL;VALUE=URI:https://www.aslvarreddesvtt.com/evenements/2026/04/26/montapeine-vtt-50km-2443548
END:VEVENT
END:VCALENDAR
